BEGIN:VCALENDAR
VERSION:2.0
PRODID:-//Tocc-Online - ECPv6.15.20//NONSGML v1.0//EN
CALSCALE:GREGORIAN
METHOD:PUBLISH
X-WR-CALNAME:Tocc-Online
X-ORIGINAL-URL:https://www.tocc-online.de
X-WR-CALDESC:Veranstaltungen für Tocc-Online
REFRESH-INTERVAL;VALUE=DURATION:PT1H
X-Robots-Tag:noindex
X-PUBLISHED-TTL:PT1H
BEGIN:VTIMEZONE
TZID:Europe/Berlin
BEGIN:DAYLIGHT
TZOFFSETFROM:+0100
TZOFFSETTO:+0200
TZNAME:CEST
DTSTART:20250330T010000
END:DAYLIGHT
BEGIN:STANDARD
TZOFFSETFROM:+0200
TZOFFSETTO:+0100
TZNAME:CET
DTSTART:20251026T010000
END:STANDARD
BEGIN:DAYLIGHT
TZOFFSETFROM:+0100
TZOFFSETTO:+0200
TZNAME:CEST
DTSTART:20260329T010000
END:DAYLIGHT
BEGIN:STANDARD
TZOFFSETFROM:+0200
TZOFFSETTO:+0100
TZNAME:CET
DTSTART:20261025T010000
END:STANDARD
BEGIN:DAYLIGHT
TZOFFSETFROM:+0100
TZOFFSETTO:+0200
TZNAME:CEST
DTSTART:20270328T010000
END:DAYLIGHT
BEGIN:STANDARD
TZOFFSETFROM:+0200
TZOFFSETTO:+0100
TZNAME:CET
DTSTART:20271031T010000
END:STANDARD
END:VTIMEZONE
BEGIN:VEVENT
DTSTART;TZID=Europe/Berlin:20260423T080000
DTEND;TZID=Europe/Berlin:20260423T210000
DTSTAMP:20260419T143948
CREATED:20251118T123040Z
LAST-MODIFIED:20260406T125819Z
UID:1838-1776931200-1776978000@www.tocc-online.de
SUMMARY:Die Tulpenroute Flevoland
DESCRIPTION:Bustour nach Urk / Niederland (Die genaue Abfahrtzeit wird noch bekannt gegeben)!__________Hier ein Link dazu: https://www.delicioustravel.de/highlights-tulpenroute-flevoland-holland/
URL:https://www.tocc-online.de/event/thema-offen-6/
END:VEVENT
END:VCALENDAR